Workbook

Sheet inscriptions
C1: Club FFTRI :
C2: Nom du responsable : | E2: Prénom : | G2: Email :
C3: Adresse : | G3: Portable :
C4: Code postal : | E4: Ville :
H5: Total des frais d'inscription :
H6: =SUM(Q16:Q65) -> 0
A8: Ne remplir que les colonnes blanches dans le tableau ci-dessous. Les colonnes "Mixité équipe", "Course", "Catégorie" et "Tarif" sont calculées automatiquement.
A9: Renvoyez votre tableau complété sur l'adresse email bike-and-run@uspalaiseautriathlon.fr ou cliquez ici
D11: Nombre d'inscrits | E11: =E12*2 -> 0
D12: Nombre d'équipes | E12: =COUNT(G16:G65) -> 0
A13: Liste des inscrits :
D14: EQUIPIER 1 | I14: Equipier 2
A15: N° | B15: Club | C15: Nom équipe | D15: NOM | E15: Prénom | F15: Sexe (M/F) | G15: Année de naissance | H15: N° Licence FFTRI (laisser case vide si non licencié) | I15: NOM | J15: Prénom | K15: Sexe (M/F) | L15: Année de naissance | M15: N° Licence FFTRI (laisser case vide si non licencié) | N15: Mixité équipe | O15: Course | P15: Catégorie | Q15: Tarif | S15: Remarque
A16: 1 | B16: =UPPER(IF(ISBLANK($D$1),"",$D$1)) | N16: =IF(AND(F16="F",K16="F"),"Féminine","Masculine") -> Masculine | O16: {=_xlfn.IFS(OR(P16="Poussin",P16="Mini-poussin"),"Poussin/Mini-poussin",P16="Pupille","Pupille",P16="Benjamin","Benjamin",P16="Minime","Minime",OR(P16="Junior",P16="Cadet"),"Cadet/Junior")} -> #N/A | P16: {=_xlfn.IFS(AND(G16>='catégorie jeune'!A$15,L16>='catégorie jeune'!A$15),"Mini-poussin", AND(G16>='catégorie jeune'!A$13,L16>='catégorie jeune'!A$13),"Poussin", AND(G16>='catégorie jeune'!A$11,L16>='catégorie jeune'!A$11),"Pupille", AND(G16>='catégorie jeune'!A$9,L16>='catégorie jeune'!A$9),"Benjamin", AND(G16>='catégorie jeune'!A$7,L16>='catégorie jeune'!A$7),"Minime", AND(G16>='catégorie jeune'!A$5,L16>='catégorie jeune'!A$5),"Cadet", AND(G16>='catégorie jeune'!A$3,L16>='catégorie jeune'!A$3),"Junior", NOT(ISBLANK(G16)), "Problème!")} -> #N/A | Q16: =IF(AND(ISBLANK(H16),ISBLANK(G16)),0,IF(ISNUMBER(H16),3,IF(MID(H16,7,1)="C",4,6)))+IF(AND(ISBLANK(M16),ISBLANK(L16)),0,IF(ISNUMBER(M16),3,IF(MID(M16,7,1)="C",4,6))) -> 0
A17: 2 | B17: =UPPER(IF(ISBLANK($D$1),"",$D$1)) | N17: =IF(AND(F17="F",K17="F"),"Féminine","Masculine") -> Masculine | O17: {=_xlfn.IFS(OR(P17="Poussin",P17="Mini-poussin"),"Poussin/Mini-poussin",P17="Pupille","Pupille",P17="Benjamin","Benjamin",P17="Minime","Minime",OR(P17="Junior",P17="Cadet"),"Cadet/Junior")} -> #N/A | P17: {=_xlfn.IFS(AND(G17>='catégorie jeune'!A$15,L17>='catégorie jeune'!A$15),"Mini-poussin", AND(G17>='catégorie jeune'!A$13,L17>='catégorie jeune'!A$13),"Poussin", AND(G17>='catégorie jeune'!A$11,L17>='catégorie jeune'!A$11),"Pupille", AND(G17>='catégorie jeune'!A$9,L17>='catégorie jeune'!A$9),"Benjamin", AND(G17>='catégorie jeune'!A$7,L17>='catégorie jeune'!A$7),"Minime", AND(G17>='catégorie jeune'!A$5,L17>='catégorie jeune'!A$5),"Cadet", AND(G17>='catégorie jeune'!A$3,L17>='catégorie jeune'!A$3),"Junior", NOT(ISBLANK(G17)), "Problème!")} -> #N/A | Q17: =IF(AND(ISBLANK(H17),ISBLANK(G17)),0,IF(ISNUMBER(H17),3,IF(MID(H17,7,1)="C",4,6)))+IF(AND(ISBLANK(M17),ISBLANK(L17)),0,IF(ISNUMBER(M17),3,IF(MID(M17,7,1)="C",4,6))) -> 0
A18: 3 | B18: =UPPER(IF(ISBLANK($D$1),"",$D$1)) | N18: =IF(AND(F18="F",K18="F"),"Féminine","Masculine") -> Masculine | O18: {=_xlfn.IFS(OR(P18="Poussin",P18="Mini-poussin"),"Poussin/Mini-poussin",P18="Pupille","Pupille",P18="Benjamin","Benjamin",P18="Minime","Minime",OR(P18="Junior",P18="Cadet"),"Cadet/Junior")} -> #N/A | P18: {=_xlfn.IFS(AND(G18>='catégorie jeune'!A$15,L18>='catégorie jeune'!A$15),"Mini-poussin", AND(G18>='catégorie jeune'!A$13,L18>='catégorie jeune'!A$13),"Poussin", AND(G18>='catégorie jeune'!A$11,L18>='catégorie jeune'!A$11),"Pupille", AND(G18>='catégorie jeune'!A$9,L18>='catégorie jeune'!A$9),"Benjamin", AND(G18>='catégorie jeune'!A$7,L18>='catégorie jeune'!A$7),"Minime", AND(G18>='catégorie jeune'!A$5,L18>='catégorie jeune'!A$5),"Cadet", AND(G18>='catégorie jeune'!A$3,L18>='catégorie jeune'!A$3),"Junior", NOT(ISBLANK(G18)), "Problème!")} -> #N/A | Q18: =IF(AND(ISBLANK(H18),ISBLANK(G18)),0,IF(ISNUMBER(H18),3,IF(MID(H18,7,1)="C",4,6)))+IF(AND(ISBLANK(M18),ISBLANK(L18)),0,IF(ISNUMBER(M18),3,IF(MID(M18,7,1)="C",4,6))) -> 0
A19: 4 | B19: =UPPER(IF(ISBLANK($D$1),"",$D$1)) | N19: =IF(AND(F19="F",K19="F"),"Féminine","Masculine") -> Masculine | O19: {=_xlfn.IFS(OR(P19="Poussin",P19="Mini-poussin"),"Poussin/Mini-poussin",P19="Pupille","Pupille",P19="Benjamin","Benjamin",P19="Minime","Minime",OR(P19="Junior",P19="Cadet"),"Cadet/Junior")} -> #N/A | P19: {=_xlfn.IFS(AND(G19>='catégorie jeune'!A$15,L19>='catégorie jeune'!A$15),"Mini-poussin", AND(G19>='catégorie jeune'!A$13,L19>='catégorie jeune'!A$13),"Poussin", AND(G19>='catégorie jeune'!A$11,L19>='catégorie jeune'!A$11),"Pupille", AND(G19>='catégorie jeune'!A$9,L19>='catégorie jeune'!A$9),"Benjamin", AND(G19>='catégorie jeune'!A$7,L19>='catégorie jeune'!A$7),"Minime", AND(G19>='catégorie jeune'!A$5,L19>='catégorie jeune'!A$5),"Cadet", AND(G19>='catégorie jeune'!A$3,L19>='catégorie jeune'!A$3),"Junior", NOT(ISBLANK(G19)), "Problème!")} -> #N/A | Q19: =IF(AND(ISBLANK(H19),ISBLANK(G19)),0,IF(ISNUMBER(H19),3,IF(MID(H19,7,1)="C",4,6)))+IF(AND(ISBLANK(M19),ISBLANK(L19)),0,IF(ISNUMBER(M19),3,IF(MID(M19,7,1)="C",4,6))) -> 0
A20: 5 | B20: =UPPER(IF(ISBLANK($D$1),"",$D$1)) | N20: =IF(AND(F20="F",K20="F"),"Féminine","Masculine") -> Masculine | O20: {=_xlfn.IFS(OR(P20="Poussin",P20="Mini-poussin"),"Poussin/Mini-poussin",P20="Pupille","Pupille",P20="Benjamin","Benjamin",P20="Minime","Minime",OR(P20="Junior",P20="Cadet"),"Cadet/Junior")} -> #N/A | P20: {=_xlfn.IFS(AND(G20>='catégorie jeune'!A$15,L20>='catégorie jeune'!A$15),"Mini-poussin", AND(G20>='catégorie jeune'!A$13,L20>='catégorie jeune'!A$13),"Poussin", AND(G20>='catégorie jeune'!A$11,L20>='catégorie jeune'!A$11),"Pupille", AND(G20>='catégorie jeune'!A$9,L20>='catégorie jeune'!A$9),"Benjamin", AND(G20>='catégorie jeune'!A$7,L20>='catégorie jeune'!A$7),"Minime", AND(G20>='catégorie jeune'!A$5,L20>='catégorie jeune'!A$5),"Cadet", AND(G20>='catégorie jeune'!A$3,L20>='catégorie jeune'!A$3),"Junior", NOT(ISBLANK(G20)), "Problème!")} -> #N/A | Q20: =IF(AND(ISBLANK(H20),ISBLANK(G20)),0,IF(ISNUMBER(H20),3,IF(MID(H20,7,1)="C",4,6)))+IF(AND(ISBLANK(M20),ISBLANK(L20)),0,IF(ISNUMBER(M20),3,IF(MID(M20,7,1)="C",4,6))) -> 0
A21: 6 | B21: =UPPER(IF(ISBLANK($D$1),"",$D$1)) | N21: =IF(AND(F21="F",K21="F"),"Féminine","Masculine") -> Masculine | O21: {=_xlfn.IFS(OR(P21="Poussin",P21="Mini-poussin"),"Poussin/Mini-poussin",P21="Pupille","Pupille",P21="Benjamin","Benjamin",P21="Minime","Minime",OR(P21="Junior",P21="Cadet"),"Cadet/Junior")} -> #N/A | P21: {=_xlfn.IFS(AND(G21>='catégorie jeune'!A$15,L21>='catégorie jeune'!A$15),"Mini-poussin", AND(G21>='catégorie jeune'!A$13,L21>='catégorie jeune'!A$13),"Poussin", AND(G21>='catégorie jeune'!A$11,L21>='catégorie jeune'!A$11),"Pupille", AND(G21>='catégorie jeune'!A$9,L21>='catégorie jeune'!A$9),"Benjamin", AND(G21>='catégorie jeune'!A$7,L21>='catégorie jeune'!A$7),"Minime", AND(G21>='catégorie jeune'!A$5,L21>='catégorie jeune'!A$5),"Cadet", AND(G21>='catégorie jeune'!A$3,L21>='catégorie jeune'!A$3),"Junior", NOT(ISBLANK(G21)), "Problème!")} -> #N/A | Q21: =IF(AND(ISBLANK(H21),ISBLANK(G21)),0,IF(ISNUMBER(H21),3,IF(MID(H21,7,1)="C",4,6)))+IF(AND(ISBLANK(M21),ISBLANK(L21)),0,IF(ISNUMBER(M21),3,IF(MID(M21,7,1)="C",4,6))) -> 0
A22: 7 | B22: =UPPER(IF(ISBLANK($D$1),"",$D$1)) | N22: =IF(AND(F22="F",K22="F"),"Féminine","Masculine") -> Masculine | O22: {=_xlfn.IFS(OR(P22="Poussin",P22="Mini-poussin"),"Poussin/Mini-poussin",P22="Pupille","Pupille",P22="Benjamin","Benjamin",P22="Minime","Minime",OR(P22="Junior",P22="Cadet"),"Cadet/Junior")} -> #N/A | P22: {=_xlfn.IFS(AND(G22>='catégorie jeune'!A$15,L22>='catégorie jeune'!A$15),"Mini-poussin", AND(G22>='catégorie jeune'!A$13,L22>='catégorie jeune'!A$13),"Poussin", AND(G22>='catégorie jeune'!A$11,L22>='catégorie jeune'!A$11),"Pupille", AND(G22>='catégorie jeune'!A$9,L22>='catégorie jeune'!A$9),"Benjamin", AND(G22>='catégorie jeune'!A$7,L22>='catégorie jeune'!A$7),"Minime", AND(G22>='catégorie jeune'!A$5,L22>='catégorie jeune'!A$5),"Cadet", AND(G22>='catégorie jeune'!A$3,L22>='catégorie jeune'!A$3),"Junior", NOT(ISBLANK(G22)), "Problème!")} -> #N/A | Q22: =IF(AND(ISBLANK(H22),ISBLANK(G22)),0,IF(ISNUMBER(H22),3,IF(MID(H22,7,1)="C",4,6)))+IF(AND(ISBLANK(M22),ISBLANK(L22)),0,IF(ISNUMBER(M22),3,IF(MID(M22,7,1)="C",4,6))) -> 0
A23: 8 | B23: =UPPER(IF(ISBLANK($D$1),"",$D$1)) | N23: =IF(AND(F23="F",K23="F"),"Féminine","Masculine") -> Masculine | O23: {=_xlfn.IFS(OR(P23="Poussin",P23="Mini-poussin"),"Poussin/Mini-poussin",P23="Pupille","Pupille",P23="Benjamin","Benjamin",P23="Minime","Minime",OR(P23="Junior",P23="Cadet"),"Cadet/Junior")} -> #N/A | P23: {=_xlfn.IFS(AND(G23>='catégorie jeune'!A$15,L23>='catégorie jeune'!A$15),"Mini-poussin", AND(G23>='catégorie jeune'!A$13,L23>='catégorie jeune'!A$13),"Poussin", AND(G23>='catégorie jeune'!A$11,L23>='catégorie jeune'!A$11),"Pupille", AND(G23>='catégorie jeune'!A$9,L23>='catégorie jeune'!A$9),"Benjamin", AND(G23>='catégorie jeune'!A$7,L23>='catégorie jeune'!A$7),"Minime", AND(G23>='catégorie jeune'!A$5,L23>='catégorie jeune'!A$5),"Cadet", AND(G23>='catégorie jeune'!A$3,L23>='catégorie jeune'!A$3),"Junior", NOT(ISBLANK(G23)), "Problème!")} -> #N/A | Q23: =IF(AND(ISBLANK(H23),ISBLANK(G23)),0,IF(ISNUMBER(H23),3,IF(MID(H23,7,1)="C",4,6)))+IF(AND(ISBLANK(M23),ISBLANK(L23)),0,IF(ISNUMBER(M23),3,IF(MID(M23,7,1)="C",4,6))) -> 0
A24: 9 | B24: =UPPER(IF(ISBLANK($D$1),"",$D$1)) | N24: =IF(AND(F24="F",K24="F"),"Féminine","Masculine") -> Masculine | O24: {=_xlfn.IFS(OR(P24="Poussin",P24="Mini-poussin"),"Poussin/Mini-poussin",P24="Pupille","Pupille",P24="Benjamin","Benjamin",P24="Minime","Minime",OR(P24="Junior",P24="Cadet"),"Cadet/Junior")} -> #N/A | P24: {=_xlfn.IFS(AND(G24>='catégorie jeune'!A$15,L24>='catégorie jeune'!A$15),"Mini-poussin", AND(G24>='catégorie jeune'!A$13,L24>='catégorie jeune'!A$13),"Poussin", AND(G24>='catégorie jeune'!A$11,L24>='catégorie jeune'!A$11),"Pupille", AND(G24>='catégorie jeune'!A$9,L24>='catégorie jeune'!A$9),"Benjamin", AND(G24>='catégorie jeune'!A$7,L24>='catégorie jeune'!A$7),"Minime", AND(G24>='catégorie jeune'!A$5,L24>='catégorie jeune'!A$5),"Cadet", AND(G24>='catégorie jeune'!A$3,L24>='catégorie jeune'!A$3),"Junior", NOT(ISBLANK(G24)), "Problème!")} -> #N/A | Q24: =IF(AND(ISBLANK(H24),ISBLANK(G24)),0,IF(ISNUMBER(H24),3,IF(MID(H24,7,1)="C",4,6)))+IF(AND(ISBLANK(M24),ISBLANK(L24)),0,IF(ISNUMBER(M24),3,IF(MID(M24,7,1)="C",4,6))) -> 0
A25: 10 | B25: =UPPER(IF(ISBLANK($D$1),"",$D$1)) | N25: =IF(AND(F25="F",K25="F"),"Féminine","Masculine") -> Masculine | O25: {=_xlfn.IFS(OR(P25="Poussin",P25="Mini-poussin"),"Poussin/Mini-poussin",P25="Pupille","Pupille",P25="Benjamin","Benjamin",P25="Minime","Minime",OR(P25="Junior",P25="Cadet"),"Cadet/Junior")} -> #N/A | P25: {=_xlfn.IFS(AND(G25>='catégorie jeune'!A$15,L25>='catégorie jeune'!A$15),"Mini-poussin", AND(G25>='catégorie jeune'!A$13,L25>='catégorie jeune'!A$13),"Poussin", AND(G25>='catégorie jeune'!A$11,L25>='catégorie jeune'!A$11),"Pupille", AND(G25>='catégorie jeune'!A$9,L25>='catégorie jeune'!A$9),"Benjamin", AND(G25>='catégorie jeune'!A$7,L25>='catégorie jeune'!A$7),"Minime", AND(G25>='catégorie jeune'!A$5,L25>='catégorie jeune'!A$5),"Cadet", AND(G25>='catégorie jeune'!A$3,L25>='catégorie jeune'!A$3),"Junior", NOT(ISBLANK(G25)), "Problème!")} -> #N/A | Q25: =IF(AND(ISBLANK(H25),ISBLANK(G25)),0,IF(ISNUMBER(H25),3,IF(MID(H25,7,1)="C",4,6)))+IF(AND(ISBLANK(M25),ISBLANK(L25)),0,IF(ISNUMBER(M25),3,IF(MID(M25,7,1)="C",4,6))) -> 0
A26: 11 | B26: =UPPER(IF(ISBLANK($D$1),"",$D$1)) | N26: =IF(AND(F26="F",K26="F"),"Féminine","Masculine") -> Masculine | O26: {=_xlfn.IFS(OR(P26="Poussin",P26="Mini-poussin"),"Poussin/Mini-poussin",P26="Pupille","Pupille",P26="Benjamin","Benjamin",P26="Minime","Minime",OR(P26="Junior",P26="Cadet"),"Cadet/Junior")} -> #N/A | P26: {=_xlfn.IFS(AND(G26>='catégorie jeune'!A$15,L26>='catégorie jeune'!A$15),"Mini-poussin", AND(G26>='catégorie jeune'!A$13,L26>='catégorie jeune'!A$13),"Poussin", AND(G26>='catégorie jeune'!A$11,L26>='catégorie jeune'!A$11),"Pupille", AND(G26>='catégorie jeune'!A$9,L26>='catégorie jeune'!A$9),"Benjamin", AND(G26>='catégorie jeune'!A$7,L26>='catégorie jeune'!A$7),"Minime", AND(G26>='catégorie jeune'!A$5,L26>='catégorie jeune'!A$5),"Cadet", AND(G26>='catégorie jeune'!A$3,L26>='catégorie jeune'!A$3),"Junior", NOT(ISBLANK(G26)), "Problème!")} -> #N/A | Q26: =IF(AND(ISBLANK(H26),ISBLANK(G26)),0,IF(ISNUMBER(H26),3,IF(MID(H26,7,1)="C",4,6)))+IF(AND(ISBLANK(M26),ISBLANK(L26)),0,IF(ISNUMBER(M26),3,IF(MID(M26,7,1)="C",4,6))) -> 0
A27: 12 | B27: =UPPER(IF(ISBLANK($D$1),"",$D$1)) | N27: =IF(AND(F27="F",K27="F"),"Féminine","Masculine") -> Masculine | O27: {=_xlfn.IFS(OR(P27="Poussin",P27="Mini-poussin"),"Poussin/Mini-poussin",P27="Pupille","Pupille",P27="Benjamin","Benjamin",P27="Minime","Minime",OR(P27="Junior",P27="Cadet"),"Cadet/Junior")} -> #N/A | P27: {=_xlfn.IFS(AND(G27>='catégorie jeune'!A$15,L27>='catégorie jeune'!A$15),"Mini-poussin", AND(G27>='catégorie jeune'!A$13,L27>='catégorie jeune'!A$13),"Poussin", AND(G27>='catégorie jeune'!A$11,L27>='catégorie jeune'!A$11),"Pupille", AND(G27>='catégorie jeune'!A$9,L27>='catégorie jeune'!A$9),"Benjamin", AND(G27>='catégorie jeune'!A$7,L27>='catégorie jeune'!A$7),"Minime", AND(G27>='catégorie jeune'!A$5,L27>='catégorie jeune'!A$5),"Cadet", AND(G27>='catégorie jeune'!A$3,L27>='catégorie jeune'!A$3),"Junior", NOT(ISBLANK(G27)), "Problème!")} -> #N/A | Q27: =IF(AND(ISBLANK(H27),ISBLANK(G27)),0,IF(ISNUMBER(H27),3,IF(MID(H27,7,1)="C",4,6)))+IF(AND(ISBLANK(M27),ISBLANK(L27)),0,IF(ISNUMBER(M27),3,IF(MID(M27,7,1)="C",4,6))) -> 0
... A75: 60 | B75: =UPPER(IF(ISBLANK($D$1),"",$D$1)) | N75: =IF(AND(F75="F",K75="F"),"Féminine","Masculine") -> Masculine | O75: {=_xlfn.IFS(OR(P75="Poussin",P75="Mini-poussin"),"Poussin/Mini-poussin",P75="Pupille","Pupille",P75="Benjamin","Benjamin",P75="Minime","Minime",OR(P75="Junior",P75="Cadet"),"Cadet/Junior")} -> #N/A | P75: {=_xlfn.IFS(AND(G75>='catégorie jeune'!A$15,L75>='catégorie jeune'!A$15),"Mini-poussin", AND(G75>='catégorie jeune'!A$13,L75>='catégorie jeune'!A$13),"Poussin", AND(G75>='catégorie jeune'!A$11,L75>='catégorie jeune'!A$11),"Pupille", AND(G75>='catégorie jeune'!A$9,L75>='catégorie jeune'!A$9),"Benjamin", AND(G75>='catégorie jeune'!A$7,L75>='catégorie jeune'!A$7),"Minime", AND(G75>='catégorie jeune'!A$5,L75>='catégorie jeune'!A$5),"Cadet", AND(G75>='catégorie jeune'!A$3,L75>='catégorie jeune'!A$3),"Junior", NOT(ISBLANK(G75)), "Problème!")} -> #N/A | Q75: =IF(AND(ISBLANK(H75),ISBLANK(G75)),0,IF(ISNUMBER(H75),3,IF(MID(H75,7,1)="C",4,6)))+IF(AND(ISBLANK(M75),ISBLANK(L75)),0,IF(ISNUMBER(M75),3,IF(MID(M75,7,1)="C",4,6))) -> 0

Sheet catégorie jeune
A2: Date de naissance | B2: Catégorie | C2: Course
A3: 2008 | B3: Junior | C3: Cadet/Junior
A4: 2009 | B4: Junior | C4: Cadet/Junior
A5: 2010 | B5: Cadet | C5: Cadet/Junior
A6: 2011 | B6: Cadet | C6: Cadet/Junior
A7: 2012 | B7: Minime | C7: Minime
A8: 2013 | B8: Minime | C8: Minime
A9: 2014 | B9: Benjamin | C9: Benjamin
A10: 2015 | B10: Benjamin | C10: Benjamin
A11: 2016 | B11: Pupille | C11: Pupille
A12: 2017 | B12: Pupille | C12: Pupille
A13: 2018 | B13: Poussin | C13: Poussin/Mini-poussin
A14: 2019 | B14: Poussin | C14: Poussin/Mini-poussin
... A16: 2021 | B16: Mini-poussin | C16: Poussin/Mini-poussin
